BEGIN:VCALENDAR
VERSION:2.0
PRODID:-//Alabama AGC - ECPv6.15.12.2//NONSGML v1.0//EN
CALSCALE:GREGORIAN
METHOD:PUBLISH
X-ORIGINAL-URL:https://alagc.org
X-WR-CALDESC:Events for Alabama AGC
REFRESH-INTERVAL;VALUE=DURATION:PT1H
X-Robots-Tag:noindex
X-PUBLISHED-TTL:PT1H
BEGIN:VTIMEZONE
TZID:UTC
BEGIN:STANDARD
TZOFFSETFROM:+0000
TZOFFSETTO:+0000
TZNAME:UTC
DTSTART:20250101T000000
END:STANDARD
END:VTIMEZONE
BEGIN:VTIMEZONE
TZID:America/Chicago
BEGIN:DAYLIGHT
TZOFFSETFROM:-0600
TZOFFSETTO:-0500
TZNAME:CDT
DTSTART:20250309T080000
END:DAYLIGHT
BEGIN:STANDARD
TZOFFSETFROM:-0500
TZOFFSETTO:-0600
TZNAME:CST
DTSTART:20251102T070000
END:STANDARD
BEGIN:DAYLIGHT
TZOFFSETFROM:-0600
TZOFFSETTO:-0500
TZNAME:CDT
DTSTART:20260308T080000
END:DAYLIGHT
BEGIN:STANDARD
TZOFFSETFROM:-0500
TZOFFSETTO:-0600
TZNAME:CST
DTSTART:20261101T070000
END:STANDARD
BEGIN:DAYLIGHT
TZOFFSETFROM:-0600
TZOFFSETTO:-0500
TZNAME:CDT
DTSTART:20270314T080000
END:DAYLIGHT
BEGIN:STANDARD
TZOFFSETFROM:-0500
TZOFFSETTO:-0600
TZNAME:CST
DTSTART:20271107T070000
END:STANDARD
BEGIN:DAYLIGHT
TZOFFSETFROM:-0600
TZOFFSETTO:-0500
TZNAME:CDT
DTSTART:20280312T080000
END:DAYLIGHT
BEGIN:STANDARD
TZOFFSETFROM:-0500
TZOFFSETTO:-0600
TZNAME:CST
DTSTART:20281105T070000
END:STANDARD
END:VTIMEZONE
BEGIN:VEVENT
DTSTART;TZID=UTC:20261221T150000
DTEND;TZID=UTC:20261221T153000
DTSTAMP:20260422T232019
CREATED:20260422T213833Z
LAST-MODIFIED:20260422T213833Z
UID:10001631-1797865200-1797867000@alagc.org
SUMMARY:Alabama AGC Staff Meeting
DESCRIPTION:
URL:https://alagc.org/event/alabama-agc-staff-meeting-106/
LOCATION:Alabama Agc
END:VEVENT
BEGIN:VEVENT
DTSTART;TZID=America/Chicago:20261228T090000
DTEND;TZID=America/Chicago:20261228T093000
DTSTAMP:20260422T232019
CREATED:20251228T163834Z
LAST-MODIFIED:20260421T212333Z
UID:10001515-1798448400-1798450200@alagc.org
SUMMARY:Alabama AGC Staff Meeting
DESCRIPTION:
URL:https://alagc.org/event/alabama-agc-staff-meeting-55/
LOCATION:Alabama Agc
END:VEVENT
BEGIN:VEVENT
DTSTART;TZID=UTC:20261228T150000
DTEND;TZID=UTC:20261228T153000
DTSTAMP:20260422T232019
CREATED:20260422T213833Z
LAST-MODIFIED:20260422T213833Z
UID:10001632-1798470000-1798471800@alagc.org
SUMMARY:Alabama AGC Staff Meeting
DESCRIPTION:
URL:https://alagc.org/event/alabama-agc-staff-meeting-107/
LOCATION:Alabama Agc
END:VEVENT
BEGIN:VEVENT
DTSTART;TZID=America/Chicago:20270104T090000
DTEND;TZID=America/Chicago:20270104T093000
DTSTAMP:20260422T232019
CREATED:20260104T170837Z
LAST-MODIFIED:20260421T212333Z
UID:10001530-1799053200-1799055000@alagc.org
SUMMARY:Alabama AGC Staff Meeting
DESCRIPTION:
URL:https://alagc.org/event/alabama-agc-staff-meeting-56/
LOCATION:Alabama Agc
END:VEVENT
BEGIN:VEVENT
DTSTART;TZID=UTC:20270104T150000
DTEND;TZID=UTC:20270104T153000
DTSTAMP:20260422T232019
CREATED:20260422T213833Z
LAST-MODIFIED:20260422T213833Z
UID:10001633-1799074800-1799076600@alagc.org
SUMMARY:Alabama AGC Staff Meeting
DESCRIPTION:
URL:https://alagc.org/event/alabama-agc-staff-meeting-108/
LOCATION:Alabama Agc
END:VEVENT
BEGIN:VEVENT
DTSTART;TZID=America/Chicago:20270111T090000
DTEND;TZID=America/Chicago:20270111T093000
DTSTAMP:20260422T232019
CREATED:20260111T175332Z
LAST-MODIFIED:20260421T212333Z
UID:10001537-1799658000-1799659800@alagc.org
SUMMARY:Alabama AGC Staff Meeting
DESCRIPTION:
URL:https://alagc.org/event/alabama-agc-staff-meeting-57/
LOCATION:Alabama Agc
END:VEVENT
BEGIN:VEVENT
DTSTART;TZID=UTC:20270111T150000
DTEND;TZID=UTC:20270111T153000
DTSTAMP:20260422T232019
CREATED:20260422T213833Z
LAST-MODIFIED:20260422T213833Z
UID:10001634-1799679600-1799681400@alagc.org
SUMMARY:Alabama AGC Staff Meeting
DESCRIPTION:
URL:https://alagc.org/event/alabama-agc-staff-meeting-109/
LOCATION:Alabama Agc
END:VEVENT
BEGIN:VEVENT
DTSTART;TZID=America/Chicago:20270118T090000
DTEND;TZID=America/Chicago:20270118T093000
DTSTAMP:20260422T232019
CREATED:20260118T175336Z
LAST-MODIFIED:20260421T212333Z
UID:10001580-1800262800-1800264600@alagc.org
SUMMARY:Alabama AGC Staff Meeting
DESCRIPTION:
URL:https://alagc.org/event/alabama-agc-staff-meeting-58/
LOCATION:Alabama Agc
END:VEVENT
BEGIN:VEVENT
DTSTART;TZID=UTC:20270118T150000
DTEND;TZID=UTC:20270118T153000
DTSTAMP:20260422T232019
CREATED:20260422T213834Z
LAST-MODIFIED:20260422T213834Z
UID:10001635-1800284400-1800286200@alagc.org
SUMMARY:Alabama AGC Staff Meeting
DESCRIPTION:
URL:https://alagc.org/event/alabama-agc-staff-meeting-110/
LOCATION:Alabama Agc
END:VEVENT
BEGIN:VEVENT
DTSTART;TZID=America/Chicago:20270125T090000
DTEND;TZID=America/Chicago:20270125T093000
DTSTAMP:20260422T232019
CREATED:20260125T180838Z
LAST-MODIFIED:20260421T212333Z
UID:10001581-1800867600-1800869400@alagc.org
SUMMARY:Alabama AGC Staff Meeting
DESCRIPTION:
URL:https://alagc.org/event/alabama-agc-staff-meeting-59/
LOCATION:Alabama Agc
END:VEVENT
BEGIN:VEVENT
DTSTART;TZID=UTC:20270125T150000
DTEND;TZID=UTC:20270125T153000
DTSTAMP:20260422T232019
CREATED:20260422T213834Z
LAST-MODIFIED:20260422T213834Z
UID:10001636-1800889200-1800891000@alagc.org
SUMMARY:Alabama AGC Staff Meeting
DESCRIPTION:
URL:https://alagc.org/event/alabama-agc-staff-meeting-111/
LOCATION:Alabama Agc
END:VEVENT
BEGIN:VEVENT
DTSTART;TZID=America/Chicago:20270201T090000
DTEND;TZID=America/Chicago:20270201T093000
DTSTAMP:20260422T232019
CREATED:20260201T183835Z
LAST-MODIFIED:20260421T212333Z
UID:10001583-1801472400-1801474200@alagc.org
SUMMARY:Alabama AGC Staff Meeting
DESCRIPTION:
URL:https://alagc.org/event/alabama-agc-staff-meeting-60/
LOCATION:Alabama Agc
END:VEVENT
BEGIN:VEVENT
DTSTART;TZID=UTC:20270201T150000
DTEND;TZID=UTC:20270201T153000
DTSTAMP:20260422T232019
CREATED:20260422T213834Z
LAST-MODIFIED:20260422T213834Z
UID:10001637-1801494000-1801495800@alagc.org
SUMMARY:Alabama AGC Staff Meeting
DESCRIPTION:
URL:https://alagc.org/event/alabama-agc-staff-meeting-112/
LOCATION:Alabama Agc
END:VEVENT
BEGIN:VEVENT
DTSTART;TZID=America/Chicago:20270208T090000
DTEND;TZID=America/Chicago:20270208T093000
DTSTAMP:20260422T232019
CREATED:20260208T183832Z
LAST-MODIFIED:20260421T212333Z
UID:10001585-1802077200-1802079000@alagc.org
SUMMARY:Alabama AGC Staff Meeting
DESCRIPTION:
URL:https://alagc.org/event/alabama-agc-staff-meeting-61/
LOCATION:Alabama Agc
END:VEVENT
BEGIN:VEVENT
DTSTART;TZID=UTC:20270208T150000
DTEND;TZID=UTC:20270208T153000
DTSTAMP:20260422T232019
CREATED:20260422T213834Z
LAST-MODIFIED:20260422T213834Z
UID:10001638-1802098800-1802100600@alagc.org
SUMMARY:Alabama AGC Staff Meeting
DESCRIPTION:
URL:https://alagc.org/event/alabama-agc-staff-meeting-113/
LOCATION:Alabama Agc
END:VEVENT
BEGIN:VEVENT
DTSTART;TZID=America/Chicago:20270215T090000
DTEND;TZID=America/Chicago:20270215T093000
DTSTAMP:20260422T232019
CREATED:20260215T185334Z
LAST-MODIFIED:20260421T212333Z
UID:10001586-1802682000-1802683800@alagc.org
SUMMARY:Alabama AGC Staff Meeting
DESCRIPTION:
URL:https://alagc.org/event/alabama-agc-staff-meeting-62/
LOCATION:Alabama Agc
END:VEVENT
BEGIN:VEVENT
DTSTART;TZID=UTC:20270215T150000
DTEND;TZID=UTC:20270215T153000
DTSTAMP:20260422T232019
CREATED:20260422T213834Z
LAST-MODIFIED:20260422T213834Z
UID:10001639-1802703600-1802705400@alagc.org
SUMMARY:Alabama AGC Staff Meeting
DESCRIPTION:
URL:https://alagc.org/event/alabama-agc-staff-meeting-114/
LOCATION:Alabama Agc
END:VEVENT
BEGIN:VEVENT
DTSTART;TZID=America/Chicago:20270222T090000
DTEND;TZID=America/Chicago:20270222T093000
DTSTAMP:20260422T232019
CREATED:20260222T185335Z
LAST-MODIFIED:20260421T212334Z
UID:10001587-1803286800-1803288600@alagc.org
SUMMARY:Alabama AGC Staff Meeting
DESCRIPTION:
URL:https://alagc.org/event/alabama-agc-staff-meeting-63/
LOCATION:Alabama Agc
END:VEVENT
BEGIN:VEVENT
DTSTART;TZID=UTC:20270222T150000
DTEND;TZID=UTC:20270222T153000
DTSTAMP:20260422T232019
CREATED:20260422T213834Z
LAST-MODIFIED:20260422T213834Z
UID:10001640-1803308400-1803310200@alagc.org
SUMMARY:Alabama AGC Staff Meeting
DESCRIPTION:
URL:https://alagc.org/event/alabama-agc-staff-meeting-115/
LOCATION:Alabama Agc
END:VEVENT
BEGIN:VEVENT
DTSTART;TZID=America/Chicago:20270301T090000
DTEND;TZID=America/Chicago:20270301T093000
DTSTAMP:20260422T232019
CREATED:20260301T190836Z
LAST-MODIFIED:20260421T212334Z
UID:10001588-1803891600-1803893400@alagc.org
SUMMARY:Alabama AGC Staff Meeting
DESCRIPTION:
URL:https://alagc.org/event/alabama-agc-staff-meeting-64/
LOCATION:Alabama Agc
END:VEVENT
BEGIN:VEVENT
DTSTART;TZID=UTC:20270301T150000
DTEND;TZID=UTC:20270301T153000
DTSTAMP:20260422T232019
CREATED:20260422T213835Z
LAST-MODIFIED:20260422T213835Z
UID:10001641-1803913200-1803915000@alagc.org
SUMMARY:Alabama AGC Staff Meeting
DESCRIPTION:
URL:https://alagc.org/event/alabama-agc-staff-meeting-116/
LOCATION:Alabama Agc
END:VEVENT
BEGIN:VEVENT
DTSTART;TZID=America/Chicago:20270308T090000
DTEND;TZID=America/Chicago:20270308T093000
DTSTAMP:20260422T232019
CREATED:20260308T192333Z
LAST-MODIFIED:20260421T212334Z
UID:10001589-1804496400-1804498200@alagc.org
SUMMARY:Alabama AGC Staff Meeting
DESCRIPTION:
URL:https://alagc.org/event/alabama-agc-staff-meeting-65/
LOCATION:Alabama Agc
END:VEVENT
BEGIN:VEVENT
DTSTART;TZID=UTC:20270308T150000
DTEND;TZID=UTC:20270308T153000
DTSTAMP:20260422T232019
CREATED:20260422T213835Z
LAST-MODIFIED:20260422T213835Z
UID:10001642-1804518000-1804519800@alagc.org
SUMMARY:Alabama AGC Staff Meeting
DESCRIPTION:
URL:https://alagc.org/event/alabama-agc-staff-meeting-117/
LOCATION:Alabama Agc
END:VEVENT
BEGIN:VEVENT
DTSTART;TZID=America/Chicago:20270315T090000
DTEND;TZID=America/Chicago:20270315T093000
DTSTAMP:20260422T232019
CREATED:20260315T193841Z
LAST-MODIFIED:20260421T212334Z
UID:10001590-1805101200-1805103000@alagc.org
SUMMARY:Alabama AGC Staff Meeting
DESCRIPTION:
URL:https://alagc.org/event/alabama-agc-staff-meeting-66/
LOCATION:Alabama Agc
END:VEVENT
BEGIN:VEVENT
DTSTART;TZID=UTC:20270315T140000
DTEND;TZID=UTC:20270315T143000
DTSTAMP:20260422T232019
CREATED:20260422T213835Z
LAST-MODIFIED:20260422T213835Z
UID:10001643-1805119200-1805121000@alagc.org
SUMMARY:Alabama AGC Staff Meeting
DESCRIPTION:
URL:https://alagc.org/event/alabama-agc-staff-meeting-118/
LOCATION:Alabama Agc
END:VEVENT
BEGIN:VEVENT
DTSTART;TZID=America/Chicago:20270322T090000
DTEND;TZID=America/Chicago:20270322T093000
DTSTAMP:20260422T232019
CREATED:20260322T193834Z
LAST-MODIFIED:20260421T212334Z
UID:10001591-1805706000-1805707800@alagc.org
SUMMARY:Alabama AGC Staff Meeting
DESCRIPTION:
URL:https://alagc.org/event/alabama-agc-staff-meeting-67/
LOCATION:Alabama Agc
END:VEVENT
BEGIN:VEVENT
DTSTART;TZID=UTC:20270322T140000
DTEND;TZID=UTC:20270322T143000
DTSTAMP:20260422T232019
CREATED:20260422T213835Z
LAST-MODIFIED:20260422T213835Z
UID:10001644-1805724000-1805725800@alagc.org
SUMMARY:Alabama AGC Staff Meeting
DESCRIPTION:
URL:https://alagc.org/event/alabama-agc-staff-meeting-119/
LOCATION:Alabama Agc
END:VEVENT
BEGIN:VEVENT
DTSTART;TZID=America/Chicago:20270329T090000
DTEND;TZID=America/Chicago:20270329T093000
DTSTAMP:20260422T232019
CREATED:20260329T200830Z
LAST-MODIFIED:20260421T212334Z
UID:10001592-1806310800-1806312600@alagc.org
SUMMARY:Alabama AGC Staff Meeting
DESCRIPTION:
URL:https://alagc.org/event/alabama-agc-staff-meeting-68/
LOCATION:Alabama Agc
END:VEVENT
BEGIN:VEVENT
DTSTART;TZID=UTC:20270329T140000
DTEND;TZID=UTC:20270329T143000
DTSTAMP:20260422T232019
CREATED:20260422T213835Z
LAST-MODIFIED:20260422T213835Z
UID:10001645-1806328800-1806330600@alagc.org
SUMMARY:Alabama AGC Staff Meeting
DESCRIPTION:
URL:https://alagc.org/event/alabama-agc-staff-meeting-120/
LOCATION:Alabama Agc
END:VEVENT
BEGIN:VEVENT
DTSTART;TZID=America/Chicago:20270405T090000
DTEND;TZID=America/Chicago:20270405T093000
DTSTAMP:20260422T232019
CREATED:20260405T202333Z
LAST-MODIFIED:20260421T212334Z
UID:10001593-1806915600-1806917400@alagc.org
SUMMARY:Alabama AGC Staff Meeting
DESCRIPTION:
URL:https://alagc.org/event/alabama-agc-staff-meeting-69/
LOCATION:Alabama Agc
END:VEVENT
END:VCALENDAR