BEGIN:VCALENDAR
VERSION:2.0
PRODID:-//Alabama AGC - ECPv6.15.12.2//NONSGML v1.0//EN
CALSCALE:GREGORIAN
METHOD:PUBLISH
X-ORIGINAL-URL:https://alagc.org
X-WR-CALDESC:Events for Alabama AGC
REFRESH-INTERVAL;VALUE=DURATION:PT1H
X-Robots-Tag:noindex
X-PUBLISHED-TTL:PT1H
BEGIN:VTIMEZONE
TZID:UTC
BEGIN:STANDARD
TZOFFSETFROM:+0000
TZOFFSETTO:+0000
TZNAME:UTC
DTSTART:20250101T000000
END:STANDARD
END:VTIMEZONE
BEGIN:VTIMEZONE
TZID:America/Chicago
BEGIN:DAYLIGHT
TZOFFSETFROM:-0600
TZOFFSETTO:-0500
TZNAME:CDT
DTSTART:20250309T080000
END:DAYLIGHT
BEGIN:STANDARD
TZOFFSETFROM:-0500
TZOFFSETTO:-0600
TZNAME:CST
DTSTART:20251102T070000
END:STANDARD
BEGIN:DAYLIGHT
TZOFFSETFROM:-0600
TZOFFSETTO:-0500
TZNAME:CDT
DTSTART:20260308T080000
END:DAYLIGHT
BEGIN:STANDARD
TZOFFSETFROM:-0500
TZOFFSETTO:-0600
TZNAME:CST
DTSTART:20261101T070000
END:STANDARD
BEGIN:DAYLIGHT
TZOFFSETFROM:-0600
TZOFFSETTO:-0500
TZNAME:CDT
DTSTART:20270314T080000
END:DAYLIGHT
BEGIN:STANDARD
TZOFFSETFROM:-0500
TZOFFSETTO:-0600
TZNAME:CST
DTSTART:20271107T070000
END:STANDARD
END:VTIMEZONE
BEGIN:VEVENT
DTSTART;TZID=UTC:20261012T140000
DTEND;TZID=UTC:20261012T143000
DTSTAMP:20260422T174730
CREATED:20260422T213831Z
LAST-MODIFIED:20260422T213831Z
UID:10001621-1791813600-1791815400@alagc.org
SUMMARY:Alabama AGC Staff Meeting
DESCRIPTION:
URL:https://alagc.org/event/alabama-agc-staff-meeting-96/
LOCATION:Alabama Agc
END:VEVENT
BEGIN:VEVENT
DTSTART;VALUE=DATE:20261014
DTEND;VALUE=DATE:20261015
DTSTAMP:20260422T174730
CREATED:20251223T163829Z
LAST-MODIFIED:20260422T213831Z
UID:10001513-1791936000-1792022399@alagc.org
SUMMARY:Alabama I-Day
DESCRIPTION:
URL:https://alagc.org/event/alabama-i-day-2/
END:VEVENT
BEGIN:VEVENT
DTSTART;TZID=America/Chicago:20261019T090000
DTEND;TZID=America/Chicago:20261019T093000
DTSTAMP:20260422T174730
CREATED:20251208T173457Z
LAST-MODIFIED:20260421T212332Z
UID:10001493-1792400400-1792402200@alagc.org
SUMMARY:Alabama AGC Staff Meeting
DESCRIPTION:
URL:https://alagc.org/event/alabama-agc-staff-meeting-45/
LOCATION:Alabama Agc
END:VEVENT
BEGIN:VEVENT
DTSTART;TZID=UTC:20261019T140000
DTEND;TZID=UTC:20261019T143000
DTSTAMP:20260422T174730
CREATED:20260422T213831Z
LAST-MODIFIED:20260422T213831Z
UID:10001622-1792418400-1792420200@alagc.org
SUMMARY:Alabama AGC Staff Meeting
DESCRIPTION:
URL:https://alagc.org/event/alabama-agc-staff-meeting-97/
LOCATION:Alabama Agc
END:VEVENT
BEGIN:VEVENT
DTSTART;TZID=America/Chicago:20261026T090000
DTEND;TZID=America/Chicago:20261026T093000
DTSTAMP:20260422T174730
CREATED:20251208T173457Z
LAST-MODIFIED:20260421T212332Z
UID:10001494-1793005200-1793007000@alagc.org
SUMMARY:Alabama AGC Staff Meeting
DESCRIPTION:
URL:https://alagc.org/event/alabama-agc-staff-meeting-46/
LOCATION:Alabama Agc
END:VEVENT
BEGIN:VEVENT
DTSTART;TZID=UTC:20261026T140000
DTEND;TZID=UTC:20261026T143000
DTSTAMP:20260422T174730
CREATED:20260422T213831Z
LAST-MODIFIED:20260422T213831Z
UID:10001623-1793023200-1793025000@alagc.org
SUMMARY:Alabama AGC Staff Meeting
DESCRIPTION:
URL:https://alagc.org/event/alabama-agc-staff-meeting-98/
LOCATION:Alabama Agc
END:VEVENT
BEGIN:VEVENT
DTSTART;VALUE=DATE:20261028
DTEND;VALUE=DATE:20261031
DTSTAMP:20260422T174730
CREATED:20251028T184014Z
LAST-MODIFIED:20251104T185517Z
UID:10001405-1793145600-1793404799@alagc.org
SUMMARY:ACAE Convention
DESCRIPTION:
URL:https://alagc.org/event/acae-convention-2/
LOCATION:Grand Hotel Marriott Resort\, Golf Club & Spa
END:VEVENT
BEGIN:VEVENT
DTSTART;VALUE=DATE:20261028
DTEND;VALUE=DATE:20261031
DTSTAMP:20260422T174730
CREATED:20251208T173457Z
LAST-MODIFIED:20260422T213831Z
UID:10001495-1793145600-1793404799@alagc.org
SUMMARY:ACAE Convention
DESCRIPTION:The following information couldn’t be added to Exchange:\nurl:message:%3C1142272681864.1102215505997.875.0.471030JL.2002@synd.ccsend.com%3E
URL:https://alagc.org/event/acae-convention-3/
LOCATION:Grand Hotel Marriott Resort\, Golf Club & Spa
END:VEVENT
BEGIN:VEVENT
DTSTART;VALUE=DATE:20261031
DTEND;VALUE=DATE:20261101
DTSTAMP:20260422T174730
CREATED:20251208T173457Z
LAST-MODIFIED:20260422T213831Z
UID:10001496-1793404800-1793491199@alagc.org
SUMMARY:Halloween
DESCRIPTION:
URL:https://alagc.org/event/halloween/
LOCATION:United States
END:VEVENT
BEGIN:VEVENT
DTSTART;TZID=America/Chicago:20261102T090000
DTEND;TZID=America/Chicago:20261102T093000
DTSTAMP:20260422T174730
CREATED:20251208T173457Z
LAST-MODIFIED:20260421T212332Z
UID:10001497-1793610000-1793611800@alagc.org
SUMMARY:Alabama AGC Staff Meeting
DESCRIPTION:
URL:https://alagc.org/event/alabama-agc-staff-meeting-47/
LOCATION:Alabama Agc
END:VEVENT
BEGIN:VEVENT
DTSTART;TZID=UTC:20261102T150000
DTEND;TZID=UTC:20261102T153000
DTSTAMP:20260422T174730
CREATED:20260422T213831Z
LAST-MODIFIED:20260422T213831Z
UID:10001624-1793631600-1793633400@alagc.org
SUMMARY:Alabama AGC Staff Meeting
DESCRIPTION:
URL:https://alagc.org/event/alabama-agc-staff-meeting-99/
LOCATION:Alabama Agc
END:VEVENT
BEGIN:VEVENT
DTSTART;VALUE=DATE:20261105
DTEND;VALUE=DATE:20261107
DTSTAMP:20260422T174730
CREATED:20251223T163830Z
LAST-MODIFIED:20260422T213831Z
UID:10001514-1793836800-1794009599@alagc.org
SUMMARY:Alabama Workers' Compensation Society - Annual Conference
DESCRIPTION:
URL:https://alagc.org/event/alabama-workers-compensation-society-annual-conference/
LOCATION:Hyatt Regency
END:VEVENT
BEGIN:VEVENT
DTSTART;TZID=America/Chicago:20261109T090000
DTEND;TZID=America/Chicago:20261109T093000
DTSTAMP:20260422T174730
CREATED:20251208T173457Z
LAST-MODIFIED:20260421T212332Z
UID:10001498-1794214800-1794216600@alagc.org
SUMMARY:Alabama AGC Staff Meeting
DESCRIPTION:
URL:https://alagc.org/event/alabama-agc-staff-meeting-48/
LOCATION:Alabama Agc
END:VEVENT
BEGIN:VEVENT
DTSTART;TZID=UTC:20261109T150000
DTEND;TZID=UTC:20261109T153000
DTSTAMP:20260422T174730
CREATED:20260422T213832Z
LAST-MODIFIED:20260422T213832Z
UID:10001625-1794236400-1794238200@alagc.org
SUMMARY:Alabama AGC Staff Meeting
DESCRIPTION:
URL:https://alagc.org/event/alabama-agc-staff-meeting-100/
LOCATION:Alabama Agc
END:VEVENT
BEGIN:VEVENT
DTSTART;TZID=America/Chicago:20261111T083000
DTEND;TZID=America/Chicago:20261111T093000
DTSTAMP:20260422T174730
CREATED:20260102T170831Z
LAST-MODIFIED:20260422T213832Z
UID:10001527-1794385800-1794389400@alagc.org
SUMMARY:Alabama Business Coalition Meeting
DESCRIPTION:
URL:https://alagc.org/event/alabama-business-coalition-meeting-8/
LOCATION:101 Constitution Ave NW\, 201 6th St NW\, Washington\, DC\, United States
GEO:38.892075;-77.019911
X-APPLE-STRUCTURED-LOCATION;VALUE=URI;X-ADDRESS=101 Constitution Ave NW 201 6th St NW Washington DC United States;X-APPLE-RADIUS=500;X-TITLE=201 6th St NW:geo:-77.019911,38.892075
END:VEVENT
BEGIN:VEVENT
DTSTART;TZID=America/Chicago:20261116T090000
DTEND;TZID=America/Chicago:20261116T093000
DTSTAMP:20260422T174730
CREATED:20251208T173457Z
LAST-MODIFIED:20260421T212332Z
UID:10001499-1794819600-1794821400@alagc.org
SUMMARY:Alabama AGC Staff Meeting
DESCRIPTION:
URL:https://alagc.org/event/alabama-agc-staff-meeting-49/
LOCATION:Alabama Agc
END:VEVENT
BEGIN:VEVENT
DTSTART;TZID=UTC:20261116T150000
DTEND;TZID=UTC:20261116T153000
DTSTAMP:20260422T174730
CREATED:20260422T213832Z
LAST-MODIFIED:20260422T213832Z
UID:10001626-1794841200-1794843000@alagc.org
SUMMARY:Alabama AGC Staff Meeting
DESCRIPTION:
URL:https://alagc.org/event/alabama-agc-staff-meeting-101/
LOCATION:Alabama Agc
END:VEVENT
BEGIN:VEVENT
DTSTART;TZID=America/Chicago:20261123T090000
DTEND;TZID=America/Chicago:20261123T093000
DTSTAMP:20260422T174730
CREATED:20251208T173457Z
LAST-MODIFIED:20260421T212332Z
UID:10001500-1795424400-1795426200@alagc.org
SUMMARY:Alabama AGC Staff Meeting
DESCRIPTION:
URL:https://alagc.org/event/alabama-agc-staff-meeting-50/
LOCATION:Alabama Agc
END:VEVENT
BEGIN:VEVENT
DTSTART;TZID=UTC:20261123T150000
DTEND;TZID=UTC:20261123T153000
DTSTAMP:20260422T174730
CREATED:20260422T213832Z
LAST-MODIFIED:20260422T213832Z
UID:10001627-1795446000-1795447800@alagc.org
SUMMARY:Alabama AGC Staff Meeting
DESCRIPTION:
URL:https://alagc.org/event/alabama-agc-staff-meeting-102/
LOCATION:Alabama Agc
END:VEVENT
BEGIN:VEVENT
DTSTART;TZID=America/Chicago:20261130T090000
DTEND;TZID=America/Chicago:20261130T093000
DTSTAMP:20260422T174730
CREATED:20251208T173457Z
LAST-MODIFIED:20260421T212332Z
UID:10001501-1796029200-1796031000@alagc.org
SUMMARY:Alabama AGC Staff Meeting
DESCRIPTION:
URL:https://alagc.org/event/alabama-agc-staff-meeting-51/
LOCATION:Alabama Agc
END:VEVENT
BEGIN:VEVENT
DTSTART;TZID=UTC:20261130T150000
DTEND;TZID=UTC:20261130T153000
DTSTAMP:20260422T174730
CREATED:20260422T213832Z
LAST-MODIFIED:20260422T213832Z
UID:10001628-1796050800-1796052600@alagc.org
SUMMARY:Alabama AGC Staff Meeting
DESCRIPTION:
URL:https://alagc.org/event/alabama-agc-staff-meeting-103/
LOCATION:Alabama Agc
END:VEVENT
BEGIN:VEVENT
DTSTART;TZID=America/Chicago:20261202T083000
DTEND;TZID=America/Chicago:20261202T093000
DTSTAMP:20260422T174730
CREATED:20260102T170832Z
LAST-MODIFIED:20260422T213832Z
UID:10001528-1796200200-1796203800@alagc.org
SUMMARY:Alabama Business Coalition Meeting
DESCRIPTION:
URL:https://alagc.org/event/alabama-business-coalition-meeting-9/
LOCATION:101 Constitution Ave NW\, 201 6th St NW\, Washington\, DC\, United States
GEO:38.892075;-77.019911
X-APPLE-STRUCTURED-LOCATION;VALUE=URI;X-ADDRESS=101 Constitution Ave NW 201 6th St NW Washington DC United States;X-APPLE-RADIUS=500;X-TITLE=201 6th St NW:geo:-77.019911,38.892075
END:VEVENT
BEGIN:VEVENT
DTSTART;TZID=America/Chicago:20261207T090000
DTEND;TZID=America/Chicago:20261207T093000
DTSTAMP:20260422T174730
CREATED:20251208T173457Z
LAST-MODIFIED:20260421T212333Z
UID:10001502-1796634000-1796635800@alagc.org
SUMMARY:Alabama AGC Staff Meeting
DESCRIPTION:
URL:https://alagc.org/event/alabama-agc-staff-meeting-52/
LOCATION:Alabama Agc
END:VEVENT
BEGIN:VEVENT
DTSTART;TZID=UTC:20261207T150000
DTEND;TZID=UTC:20261207T153000
DTSTAMP:20260422T174730
CREATED:20260422T213833Z
LAST-MODIFIED:20260422T213833Z
UID:10001629-1796655600-1796657400@alagc.org
SUMMARY:Alabama AGC Staff Meeting
DESCRIPTION:
URL:https://alagc.org/event/alabama-agc-staff-meeting-104/
LOCATION:Alabama Agc
END:VEVENT
BEGIN:VEVENT
DTSTART;TZID=America/Chicago:20261214T090000
DTEND;TZID=America/Chicago:20261214T093000
DTSTAMP:20260422T174730
CREATED:20251214T155329Z
LAST-MODIFIED:20260421T212333Z
UID:10001505-1797238800-1797240600@alagc.org
SUMMARY:Alabama AGC Staff Meeting
DESCRIPTION:
URL:https://alagc.org/event/alabama-agc-staff-meeting-53/
LOCATION:Alabama Agc
END:VEVENT
BEGIN:VEVENT
DTSTART;TZID=UTC:20261214T150000
DTEND;TZID=UTC:20261214T153000
DTSTAMP:20260422T174730
CREATED:20260422T213833Z
LAST-MODIFIED:20260422T213833Z
UID:10001630-1797260400-1797262200@alagc.org
SUMMARY:Alabama AGC Staff Meeting
DESCRIPTION:
URL:https://alagc.org/event/alabama-agc-staff-meeting-105/
LOCATION:Alabama Agc
END:VEVENT
BEGIN:VEVENT
DTSTART;TZID=America/Chicago:20261221T090000
DTEND;TZID=America/Chicago:20261221T093000
DTSTAMP:20260422T174730
CREATED:20251221T162330Z
LAST-MODIFIED:20260421T212333Z
UID:10001508-1797843600-1797845400@alagc.org
SUMMARY:Alabama AGC Staff Meeting
DESCRIPTION:
URL:https://alagc.org/event/alabama-agc-staff-meeting-54/
LOCATION:Alabama Agc
END:VEVENT
BEGIN:VEVENT
DTSTART;TZID=UTC:20261221T150000
DTEND;TZID=UTC:20261221T153000
DTSTAMP:20260422T174730
CREATED:20260422T213833Z
LAST-MODIFIED:20260422T213833Z
UID:10001631-1797865200-1797867000@alagc.org
SUMMARY:Alabama AGC Staff Meeting
DESCRIPTION:
URL:https://alagc.org/event/alabama-agc-staff-meeting-106/
LOCATION:Alabama Agc
END:VEVENT
BEGIN:VEVENT
DTSTART;TZID=America/Chicago:20261228T090000
DTEND;TZID=America/Chicago:20261228T093000
DTSTAMP:20260422T174730
CREATED:20251228T163834Z
LAST-MODIFIED:20260421T212333Z
UID:10001515-1798448400-1798450200@alagc.org
SUMMARY:Alabama AGC Staff Meeting
DESCRIPTION:
URL:https://alagc.org/event/alabama-agc-staff-meeting-55/
LOCATION:Alabama Agc
END:VEVENT
BEGIN:VEVENT
DTSTART;TZID=UTC:20261228T150000
DTEND;TZID=UTC:20261228T153000
DTSTAMP:20260422T174730
CREATED:20260422T213833Z
LAST-MODIFIED:20260422T213833Z
UID:10001632-1798470000-1798471800@alagc.org
SUMMARY:Alabama AGC Staff Meeting
DESCRIPTION:
URL:https://alagc.org/event/alabama-agc-staff-meeting-107/
LOCATION:Alabama Agc
END:VEVENT
END:VCALENDAR