BEGIN:VCALENDAR
VERSION:2.0
PRODID:-//Alabama AGC - ECPv6.15.12.2//NONSGML v1.0//EN
CALSCALE:GREGORIAN
METHOD:PUBLISH
X-WR-CALNAME:Alabama AGC
X-ORIGINAL-URL:https://alagc.org
X-WR-CALDESC:Events for Alabama AGC
REFRESH-INTERVAL;VALUE=DURATION:PT1H
X-Robots-Tag:noindex
X-PUBLISHED-TTL:PT1H
BEGIN:VTIMEZONE
TZID:America/Chicago
BEGIN:DAYLIGHT
TZOFFSETFROM:-0600
TZOFFSETTO:-0500
TZNAME:CDT
DTSTART:20250309T080000
END:DAYLIGHT
BEGIN:STANDARD
TZOFFSETFROM:-0500
TZOFFSETTO:-0600
TZNAME:CST
DTSTART:20251102T070000
END:STANDARD
BEGIN:DAYLIGHT
TZOFFSETFROM:-0600
TZOFFSETTO:-0500
TZNAME:CDT
DTSTART:20260308T080000
END:DAYLIGHT
BEGIN:STANDARD
TZOFFSETFROM:-0500
TZOFFSETTO:-0600
TZNAME:CST
DTSTART:20261101T070000
END:STANDARD
BEGIN:DAYLIGHT
TZOFFSETFROM:-0600
TZOFFSETTO:-0500
TZNAME:CDT
DTSTART:20270314T080000
END:DAYLIGHT
BEGIN:STANDARD
TZOFFSETFROM:-0500
TZOFFSETTO:-0600
TZNAME:CST
DTSTART:20271107T070000
END:STANDARD
END:VTIMEZONE
BEGIN:VTIMEZONE
TZID:UTC
BEGIN:STANDARD
TZOFFSETFROM:+0000
TZOFFSETTO:+0000
TZNAME:UTC
DTSTART:20250101T000000
END:STANDARD
END:VTIMEZONE
BEGIN:VEVENT
DTSTART;TZID=America/Chicago:20260706T090000
DTEND;TZID=America/Chicago:20260706T093000
DTSTAMP:20260422T172405
CREATED:20251208T173455Z
LAST-MODIFIED:20260421T212329Z
UID:10001475-1783328400-1783330200@alagc.org
SUMMARY:Alabama AGC Staff Meeting
DESCRIPTION:
URL:https://alagc.org/event/alabama-agc-staff-meeting-30/
LOCATION:Alabama Agc
END:VEVENT
BEGIN:VEVENT
DTSTART;TZID=UTC:20260706T140000
DTEND;TZID=UTC:20260706T143000
DTSTAMP:20260422T172405
CREATED:20260422T213828Z
LAST-MODIFIED:20260422T213828Z
UID:10001607-1783346400-1783348200@alagc.org
SUMMARY:Alabama AGC Staff Meeting
DESCRIPTION:
URL:https://alagc.org/event/alabama-agc-staff-meeting-82/
LOCATION:Alabama Agc
END:VEVENT
BEGIN:VEVENT
DTSTART;TZID=America/Chicago:20260713T090000
DTEND;TZID=America/Chicago:20260713T093000
DTSTAMP:20260422T172405
CREATED:20251208T173455Z
LAST-MODIFIED:20260421T212330Z
UID:10001476-1783933200-1783935000@alagc.org
SUMMARY:Alabama AGC Staff Meeting
DESCRIPTION:
URL:https://alagc.org/event/alabama-agc-staff-meeting-31/
LOCATION:Alabama Agc
END:VEVENT
BEGIN:VEVENT
DTSTART;TZID=UTC:20260713T140000
DTEND;TZID=UTC:20260713T143000
DTSTAMP:20260422T172405
CREATED:20260422T213828Z
LAST-MODIFIED:20260422T213828Z
UID:10001608-1783951200-1783953000@alagc.org
SUMMARY:Alabama AGC Staff Meeting
DESCRIPTION:
URL:https://alagc.org/event/alabama-agc-staff-meeting-83/
LOCATION:Alabama Agc
END:VEVENT
BEGIN:VEVENT
DTSTART;TZID=America/Chicago:20260714T173000
DTEND;TZID=America/Chicago:20260714T190000
DTSTAMP:20260422T172405
CREATED:20251104T185517Z
LAST-MODIFIED:20251104T185517Z
UID:10001423-1784050200-1784055600@alagc.org
SUMMARY:Mobile MCRBA/BCRBA/AGC Meeting
DESCRIPTION:
URL:https://alagc.org/event/mobile-mcrba-bcrba-agc-meeting/
LOCATION:Ralph and Kacoo’s (1595 Battleship Pkwy\, Spanish Fort\, AL  36527)
END:VEVENT
BEGIN:VEVENT
DTSTART;TZID=America/Chicago:20260715T083000
DTEND;TZID=America/Chicago:20260715T093000
DTSTAMP:20260422T172405
CREATED:20260102T170828Z
LAST-MODIFIED:20260422T213828Z
UID:10001525-1784104200-1784107800@alagc.org
SUMMARY:Alabama Business Coalition Meeting
DESCRIPTION:
URL:https://alagc.org/event/alabama-business-coalition-meeting-6/
LOCATION:101 Constitution Ave NW\, 201 6th St NW\, Washington\, DC\, United States
GEO:38.892075;-77.019911
X-APPLE-STRUCTURED-LOCATION;VALUE=URI;X-ADDRESS=101 Constitution Ave NW 201 6th St NW Washington DC United States;X-APPLE-RADIUS=500;X-TITLE=201 6th St NW:geo:-77.019911,38.892075
END:VEVENT
BEGIN:VEVENT
DTSTART;TZID=America/Chicago:20260720T090000
DTEND;TZID=America/Chicago:20260720T093000
DTSTAMP:20260422T172405
CREATED:20251208T173455Z
LAST-MODIFIED:20260421T212330Z
UID:10001477-1784538000-1784539800@alagc.org
SUMMARY:Alabama AGC Staff Meeting
DESCRIPTION:
URL:https://alagc.org/event/alabama-agc-staff-meeting-32/
LOCATION:Alabama Agc
END:VEVENT
BEGIN:VEVENT
DTSTART;TZID=UTC:20260720T140000
DTEND;TZID=UTC:20260720T143000
DTSTAMP:20260422T172405
CREATED:20260422T213828Z
LAST-MODIFIED:20260422T213828Z
UID:10001609-1784556000-1784557800@alagc.org
SUMMARY:Alabama AGC Staff Meeting
DESCRIPTION:
URL:https://alagc.org/event/alabama-agc-staff-meeting-84/
LOCATION:Alabama Agc
END:VEVENT
BEGIN:VEVENT
DTSTART;TZID=America/Chicago:20260727T090000
DTEND;TZID=America/Chicago:20260727T093000
DTSTAMP:20260422T172405
CREATED:20251208T173455Z
LAST-MODIFIED:20260421T212330Z
UID:10001478-1785142800-1785144600@alagc.org
SUMMARY:Alabama AGC Staff Meeting
DESCRIPTION:
URL:https://alagc.org/event/alabama-agc-staff-meeting-33/
LOCATION:Alabama Agc
END:VEVENT
BEGIN:VEVENT
DTSTART;TZID=UTC:20260727T140000
DTEND;TZID=UTC:20260727T143000
DTSTAMP:20260422T172405
CREATED:20260422T213828Z
LAST-MODIFIED:20260422T213828Z
UID:10001610-1785160800-1785162600@alagc.org
SUMMARY:Alabama AGC Staff Meeting
DESCRIPTION:
URL:https://alagc.org/event/alabama-agc-staff-meeting-85/
LOCATION:Alabama Agc
END:VEVENT
BEGIN:VEVENT
DTSTART;VALUE=DATE:20260802
DTEND;VALUE=DATE:20260805
DTSTAMP:20260422T172405
CREATED:20251223T163828Z
LAST-MODIFIED:20260422T213829Z
UID:10001512-1785628800-1785887999@alagc.org
SUMMARY:Alabama Self-Insurers Winter Conference
DESCRIPTION:
URL:https://alagc.org/event/alabama-self-insurers-winter-conference/
LOCATION:Sandestin Hilton
END:VEVENT
BEGIN:VEVENT
DTSTART;TZID=America/Chicago:20260803T090000
DTEND;TZID=America/Chicago:20260803T093000
DTSTAMP:20260422T172405
CREATED:20251208T173455Z
LAST-MODIFIED:20260421T212330Z
UID:10001479-1785747600-1785749400@alagc.org
SUMMARY:Alabama AGC Staff Meeting
DESCRIPTION:
URL:https://alagc.org/event/alabama-agc-staff-meeting-34/
LOCATION:Alabama Agc
END:VEVENT
BEGIN:VEVENT
DTSTART;TZID=UTC:20260803T140000
DTEND;TZID=UTC:20260803T143000
DTSTAMP:20260422T172405
CREATED:20260422T213829Z
LAST-MODIFIED:20260422T213829Z
UID:10001611-1785765600-1785767400@alagc.org
SUMMARY:Alabama AGC Staff Meeting
DESCRIPTION:
URL:https://alagc.org/event/alabama-agc-staff-meeting-86/
LOCATION:Alabama Agc
END:VEVENT
BEGIN:VEVENT
DTSTART;VALUE=DATE:20260805
DTEND;VALUE=DATE:20260808
DTSTAMP:20260422T172405
CREATED:20251208T173455Z
LAST-MODIFIED:20260422T213829Z
UID:10001480-1785888000-1786147199@alagc.org
SUMMARY:AGCA/CLC Annual Leadership Development Conference
DESCRIPTION:The following information couldn’t be added to Exchange:\nurl:message:%3C10960471976.4@informz.net%3E
URL:https://alagc.org/event/agca-clc-annual-conference/
LOCATION:Minneapolis Marriott City Center Public Parking
END:VEVENT
BEGIN:VEVENT
DTSTART;VALUE=DATE:20260806
DTEND;VALUE=DATE:20260809
DTSTAMP:20260422T172405
CREATED:20251208T173455Z
LAST-MODIFIED:20260422T213829Z
UID:10001481-1785974400-1786233599@alagc.org
SUMMARY:AGC Mobile Section Bonanza Days
DESCRIPTION:
URL:https://alagc.org/event/agc-mobile-section-bonanza-days/
LOCATION:The Mobile Big Game Fishing Club
END:VEVENT
BEGIN:VEVENT
DTSTART;VALUE=DATE:20260807
DTEND;VALUE=DATE:20260809
DTSTAMP:20260422T172405
CREATED:20251104T185517Z
LAST-MODIFIED:20251104T185517Z
UID:10001424-1786060800-1786233599@alagc.org
SUMMARY:Bonanza Day
DESCRIPTION:
URL:https://alagc.org/event/bonanza-day-3/
END:VEVENT
BEGIN:VEVENT
DTSTART;TZID=America/Chicago:20260810T090000
DTEND;TZID=America/Chicago:20260810T093000
DTSTAMP:20260422T172405
CREATED:20251208T173455Z
LAST-MODIFIED:20260421T212330Z
UID:10001482-1786352400-1786354200@alagc.org
SUMMARY:Alabama AGC Staff Meeting
DESCRIPTION:
URL:https://alagc.org/event/alabama-agc-staff-meeting-35/
LOCATION:Alabama Agc
END:VEVENT
BEGIN:VEVENT
DTSTART;TZID=UTC:20260810T140000
DTEND;TZID=UTC:20260810T143000
DTSTAMP:20260422T172405
CREATED:20260422T213829Z
LAST-MODIFIED:20260422T213829Z
UID:10001612-1786370400-1786372200@alagc.org
SUMMARY:Alabama AGC Staff Meeting
DESCRIPTION:
URL:https://alagc.org/event/alabama-agc-staff-meeting-87/
LOCATION:Alabama Agc
END:VEVENT
BEGIN:VEVENT
DTSTART;TZID=America/Chicago:20260817T090000
DTEND;TZID=America/Chicago:20260817T093000
DTSTAMP:20260422T172405
CREATED:20251208T173455Z
LAST-MODIFIED:20260421T212330Z
UID:10001483-1786957200-1786959000@alagc.org
SUMMARY:Alabama AGC Staff Meeting
DESCRIPTION:
URL:https://alagc.org/event/alabama-agc-staff-meeting-36/
LOCATION:Alabama Agc
END:VEVENT
BEGIN:VEVENT
DTSTART;TZID=UTC:20260817T140000
DTEND;TZID=UTC:20260817T143000
DTSTAMP:20260422T172405
CREATED:20260422T213829Z
LAST-MODIFIED:20260422T213829Z
UID:10001613-1786975200-1786977000@alagc.org
SUMMARY:Alabama AGC Staff Meeting
DESCRIPTION:
URL:https://alagc.org/event/alabama-agc-staff-meeting-88/
LOCATION:Alabama Agc
END:VEVENT
BEGIN:VEVENT
DTSTART;TZID=America/Chicago:20260824T090000
DTEND;TZID=America/Chicago:20260824T093000
DTSTAMP:20260422T172405
CREATED:20251208T173456Z
LAST-MODIFIED:20260421T212330Z
UID:10001484-1787562000-1787563800@alagc.org
SUMMARY:Alabama AGC Staff Meeting
DESCRIPTION:
URL:https://alagc.org/event/alabama-agc-staff-meeting-37/
LOCATION:Alabama Agc
END:VEVENT
BEGIN:VEVENT
DTSTART;TZID=UTC:20260824T140000
DTEND;TZID=UTC:20260824T143000
DTSTAMP:20260422T172405
CREATED:20260422T213829Z
LAST-MODIFIED:20260422T213829Z
UID:10001614-1787580000-1787581800@alagc.org
SUMMARY:Alabama AGC Staff Meeting
DESCRIPTION:
URL:https://alagc.org/event/alabama-agc-staff-meeting-89/
LOCATION:Alabama Agc
END:VEVENT
BEGIN:VEVENT
DTSTART;TZID=America/Chicago:20260831T090000
DTEND;TZID=America/Chicago:20260831T093000
DTSTAMP:20260422T172405
CREATED:20251208T173456Z
LAST-MODIFIED:20260421T212331Z
UID:10001485-1788166800-1788168600@alagc.org
SUMMARY:Alabama AGC Staff Meeting
DESCRIPTION:
URL:https://alagc.org/event/alabama-agc-staff-meeting-38/
LOCATION:Alabama Agc
END:VEVENT
BEGIN:VEVENT
DTSTART;TZID=UTC:20260831T140000
DTEND;TZID=UTC:20260831T143000
DTSTAMP:20260422T172405
CREATED:20260422T213830Z
LAST-MODIFIED:20260422T213830Z
UID:10001615-1788184800-1788186600@alagc.org
SUMMARY:Alabama AGC Staff Meeting
DESCRIPTION:
URL:https://alagc.org/event/alabama-agc-staff-meeting-90/
LOCATION:Alabama Agc
END:VEVENT
BEGIN:VEVENT
DTSTART;TZID=America/Chicago:20260907T090000
DTEND;TZID=America/Chicago:20260907T093000
DTSTAMP:20260422T172405
CREATED:20251208T173456Z
LAST-MODIFIED:20260421T212331Z
UID:10001486-1788771600-1788773400@alagc.org
SUMMARY:Alabama AGC Staff Meeting
DESCRIPTION:
URL:https://alagc.org/event/alabama-agc-staff-meeting-39/
LOCATION:Alabama Agc
END:VEVENT
BEGIN:VEVENT
DTSTART;TZID=UTC:20260907T140000
DTEND;TZID=UTC:20260907T143000
DTSTAMP:20260422T172405
CREATED:20260422T213830Z
LAST-MODIFIED:20260422T213830Z
UID:10001616-1788789600-1788791400@alagc.org
SUMMARY:Alabama AGC Staff Meeting
DESCRIPTION:
URL:https://alagc.org/event/alabama-agc-staff-meeting-91/
LOCATION:Alabama Agc
END:VEVENT
BEGIN:VEVENT
DTSTART;VALUE=DATE:20260913
DTEND;VALUE=DATE:20260917
DTSTAMP:20260422T172405
CREATED:20251208T173456Z
LAST-MODIFIED:20260422T213830Z
UID:10001488-1789257600-1789603199@alagc.org
SUMMARY:ARTBA/AGC/AASHTO Joint Meeting
DESCRIPTION:
URL:https://alagc.org/event/artba-agc-aashto-joint-meeting/
LOCATION:Harveys Lake Tahoe Hotel & Casino
END:VEVENT
BEGIN:VEVENT
DTSTART;TZID=America/Chicago:20260914T090000
DTEND;TZID=America/Chicago:20260914T093000
DTSTAMP:20260422T172405
CREATED:20251208T173456Z
LAST-MODIFIED:20260421T212331Z
UID:10001487-1789376400-1789378200@alagc.org
SUMMARY:Alabama AGC Staff Meeting
DESCRIPTION:
URL:https://alagc.org/event/alabama-agc-staff-meeting-40/
LOCATION:Alabama Agc
END:VEVENT
BEGIN:VEVENT
DTSTART;TZID=UTC:20260914T140000
DTEND;TZID=UTC:20260914T143000
DTSTAMP:20260422T172405
CREATED:20260422T213830Z
LAST-MODIFIED:20260422T213830Z
UID:10001617-1789394400-1789396200@alagc.org
SUMMARY:Alabama AGC Staff Meeting
DESCRIPTION:
URL:https://alagc.org/event/alabama-agc-staff-meeting-92/
LOCATION:Alabama Agc
END:VEVENT
BEGIN:VEVENT
DTSTART;TZID=America/Chicago:20260915T173000
DTEND;TZID=America/Chicago:20260915T190000
DTSTAMP:20260422T172405
CREATED:20251104T185517Z
LAST-MODIFIED:20251104T185517Z
UID:10001425-1789493400-1789498800@alagc.org
SUMMARY:Mobile BCRBA/MCRBA/AGC Meeting
DESCRIPTION:
URL:https://alagc.org/event/mobile-bcrba-mcrba-agc-meeting-2/
LOCATION:TimberCreek Golf Club (9650 Timbercreek Blvd\, Spanish Fort\, AL  36527)
END:VEVENT
END:VCALENDAR