BEGIN:VCALENDAR
VERSION:2.0
PRODID:-//Alabama AGC - ECPv6.15.12.2//NONSGML v1.0//EN
CALSCALE:GREGORIAN
METHOD:PUBLISH
X-ORIGINAL-URL:https://alagc.org
X-WR-CALDESC:Events for Alabama AGC
REFRESH-INTERVAL;VALUE=DURATION:PT1H
X-Robots-Tag:noindex
X-PUBLISHED-TTL:PT1H
BEGIN:VTIMEZONE
TZID:America/Chicago
BEGIN:DAYLIGHT
TZOFFSETFROM:-0600
TZOFFSETTO:-0500
TZNAME:CDT
DTSTART:20250309T080000
END:DAYLIGHT
BEGIN:STANDARD
TZOFFSETFROM:-0500
TZOFFSETTO:-0600
TZNAME:CST
DTSTART:20251102T070000
END:STANDARD
BEGIN:DAYLIGHT
TZOFFSETFROM:-0600
TZOFFSETTO:-0500
TZNAME:CDT
DTSTART:20260308T080000
END:DAYLIGHT
BEGIN:STANDARD
TZOFFSETFROM:-0500
TZOFFSETTO:-0600
TZNAME:CST
DTSTART:20261101T070000
END:STANDARD
BEGIN:DAYLIGHT
TZOFFSETFROM:-0600
TZOFFSETTO:-0500
TZNAME:CDT
DTSTART:20270314T080000
END:DAYLIGHT
BEGIN:STANDARD
TZOFFSETFROM:-0500
TZOFFSETTO:-0600
TZNAME:CST
DTSTART:20271107T070000
END:STANDARD
END:VTIMEZONE
BEGIN:VEVENT
DTSTART;TZID=America/Chicago:20260115T110000
DTEND;TZID=America/Chicago:20260115T130000
DTSTAMP:20260421T174001
CREATED:20251219T160822Z
LAST-MODIFIED:20260115T175325Z
UID:10001507-1768474800-1768482000@alagc.org
SUMMARY:UA SafeState - Meet the OSHA Regional Administrators
DESCRIPTION:Lunch sponsored by Alabama AGC
URL:https://alagc.org/event/ua-safestate-meet-the-osha-regional-administrators/
LOCATION:3500 6th Avenue South\, Birmingham\, AL\, United States
GEO:33.523204;-86.763788
END:VEVENT
END:VCALENDAR