BEGIN:VCALENDAR
VERSION:2.0
PRODID:-//Alabama AGC - ECPv6.15.12.2//NONSGML v1.0//EN
CALSCALE:GREGORIAN
METHOD:PUBLISH
X-ORIGINAL-URL:https://alagc.org
X-WR-CALDESC:Events for Alabama AGC
REFRESH-INTERVAL;VALUE=DURATION:PT1H
X-Robots-Tag:noindex
X-PUBLISHED-TTL:PT1H
BEGIN:VTIMEZONE
TZID:America/Chicago
BEGIN:DAYLIGHT
TZOFFSETFROM:-0600
TZOFFSETTO:-0500
TZNAME:CDT
DTSTART:20240310T080000
END:DAYLIGHT
BEGIN:STANDARD
TZOFFSETFROM:-0500
TZOFFSETTO:-0600
TZNAME:CST
DTSTART:20241103T070000
END:STANDARD
BEGIN:DAYLIGHT
TZOFFSETFROM:-0600
TZOFFSETTO:-0500
TZNAME:CDT
DTSTART:20250309T080000
END:DAYLIGHT
BEGIN:STANDARD
TZOFFSETFROM:-0500
TZOFFSETTO:-0600
TZNAME:CST
DTSTART:20251102T070000
END:STANDARD
BEGIN:DAYLIGHT
TZOFFSETFROM:-0600
TZOFFSETTO:-0500
TZNAME:CDT
DTSTART:20260308T080000
END:DAYLIGHT
BEGIN:STANDARD
TZOFFSETFROM:-0500
TZOFFSETTO:-0600
TZNAME:CST
DTSTART:20261101T070000
END:STANDARD
END:VTIMEZONE
BEGIN:VEVENT
DTSTART;TZID=America/Chicago:20251215T090000
DTEND;TZID=America/Chicago:20251215T093000
DTSTAMP:20260421T161413
CREATED:20251208T173450Z
LAST-MODIFIED:20251214T155330Z
UID:10001433-1765789200-1765791000@alagc.org
SUMMARY:Alabama AGC Staff Meeting
DESCRIPTION:
URL:https://alagc.org/event/alabama-agc-staff-meeting/
LOCATION:Alabama Agc
END:VEVENT
BEGIN:VEVENT
DTSTART;TZID=America/Chicago:20251215T090000
DTEND;TZID=America/Chicago:20251215T100000
DTSTAMP:20260421T161413
CREATED:20251214T155323Z
LAST-MODIFIED:20251214T155330Z
UID:10001504-1765789200-1765792800@alagc.org
SUMMARY:Alabama AGC's Zoom Meeting
DESCRIPTION:Alabama AGC is inviting you to a scheduled Zoom meeting.\nJoin Zoom Meeting\nhttps://us02web.zoom.us/j/82498143615?pwd=DDrkZ9hBm3gyMVaOYKGf36WR4MrRqC.1\nMeeting ID: 824 9814 3615\nPasscode: 573142\n—\nOne tap mobile\n+13126266799\,\,82498143615# US (Chicago)\n+16465588656\,\,82498143615# US (New York)\nJoin instructions\nhttps://us02web.zoom.us/meetings/82498143615/invitations?signature=NAS1s39AbBYk-cY7EEyXTIQPBSedJ3oiJab7q0MsDPs
URL:https://alagc.org/event/alabama-agcs-zoom-meeting/
LOCATION:https://us02web.zoom.us/j/82498143615?pwd=DDrkZ9hBm3gyMVaOYKGf36WR4MrRqC.1
END:VEVENT
END:VCALENDAR