BEGIN:VCALENDAR
VERSION:2.0
PRODID:-//Alabama AGC - ECPv6.15.12.2//NONSGML v1.0//EN
CALSCALE:GREGORIAN
METHOD:PUBLISH
X-WR-CALNAME:Alabama AGC
X-ORIGINAL-URL:https://alagc.org
X-WR-CALDESC:Events for Alabama AGC
REFRESH-INTERVAL;VALUE=DURATION:PT1H
X-Robots-Tag:noindex
X-PUBLISHED-TTL:PT1H
BEGIN:VTIMEZONE
TZID:America/Chicago
BEGIN:DAYLIGHT
TZOFFSETFROM:-0600
TZOFFSETTO:-0500
TZNAME:CDT
DTSTART:20240310T080000
END:DAYLIGHT
BEGIN:STANDARD
TZOFFSETFROM:-0500
TZOFFSETTO:-0600
TZNAME:CST
DTSTART:20241103T070000
END:STANDARD
BEGIN:DAYLIGHT
TZOFFSETFROM:-0600
TZOFFSETTO:-0500
TZNAME:CDT
DTSTART:20250309T080000
END:DAYLIGHT
BEGIN:STANDARD
TZOFFSETFROM:-0500
TZOFFSETTO:-0600
TZNAME:CST
DTSTART:20251102T070000
END:STANDARD
BEGIN:DAYLIGHT
TZOFFSETFROM:-0600
TZOFFSETTO:-0500
TZNAME:CDT
DTSTART:20260308T080000
END:DAYLIGHT
BEGIN:STANDARD
TZOFFSETFROM:-0500
TZOFFSETTO:-0600
TZNAME:CST
DTSTART:20261101T070000
END:STANDARD
END:VTIMEZONE
BEGIN:VEVENT
DTSTART;TZID=America/Chicago:20250814T113000
DTEND;TZID=America/Chicago:20250814T130000
DTSTAMP:20260424T132557
CREATED:20250725T145521Z
LAST-MODIFIED:20250811T152654Z
UID:10001352-1755171000-1755176400@alagc.org
SUMMARY:Bham CLC Lunch Social - Slice Lakeview
DESCRIPTION:
URL:https://alagc.org/event/bham-clc-lunch-social-slice-lakeview/
LOCATION:Slice Pizza & Brew
END:VEVENT
END:VCALENDAR